BEGIN:VCALENDAR
VERSION:2.0
PRODID:-//Intand Corporation//Tandem//EN
METHOD:PUBLISH
BEGIN:VEVENT
DTSTAMP:20260422T102704Z
DTSTART:20191008T010000Z
DTEND:20191008T033000Z
TRANSP:TRANSPARENT
PRIORITY:0
SUMMARY:Football\, JV: EHS @ MHS
LOCATION:Wilson Stadium
DESCRIPTION:Groups:\nStadium Use\nEldorado High Football JV\nManzano High 
 Football JV\n\nSchools:\nAPS Athletic Department\nEldorado High\nManzano H
 igh\n\nLocation:\nWilson Stadium\n\n
URL;VALUE=URI:http://hhs.albuquerquenmus.tandem.co/index.php?type=view&act
 ion=event&id=85720
CREATED:20190519T183822Z
LAST-MODIFIED:20190519T183822Z
UID:event-85720-albuquerquenmus@intand.com
END:VEVENT
END:VCALENDAR
